BEGIN:VCALENDAR
VERSION:2.0
PRODID:-//Seminar - Vet
CALSCALE:GREGORIAN
METHOD:PUBLISH
X-WR-CALNAME:Seminar - Vet
X-ORIGINAL-URL:https://seminar.vet/produkt/das-ablaeufe-aufraeum-webinar-wie-marie-kondo-eure-ablaeufe-transformieren-kann/
X-WR-CALDESC:Das Abläufe-Aufräum-Webinar – Wie Marie Kondo eure Abläufe transformieren kann
BEGIN:VTIMEZONE
TZID:Europe/Helsinki
END:VTIMEZONE
BEGIN:VEVENT
DTSTART;TZID=Europe/Helsinki:20260429T180000
DTEND;TZID=Europe/Helsinki:20260429T200000
DTSTAMP:20260423T114455
UID:1459-service@berg-design.koeln
SUMMARY:Das Abläufe-Aufräum-Webinar – Wie Marie Kondo eure Abläufe transformieren kann
DESCRIPTION:Unklare Abläufe kosten Zeit, belasten die Zusammenarbeit und erhöhen das Fehlerrisiko. Wenn Prozesse dagegen klar strukturiert sind, entsteht mehr Übersicht, Effizienz und Ruhe im Arbeitsalltag. In diesem Webinar übertragen wir die Prinzipien der Marie-Kondo-Methode auf den Praxisbetrieb. Die Teilnehmer lernen, Arbeitsabläufe zu analysieren, unnötige Schritte zu streichen und Strukturen zu schaffen, die den Alltag erleichtern. Das Ergebnis: weniger Stress, mehr Qualität und reibungslose Zusammenarbeit. Dieses Seminar ist insbesondere geeignet für TFA, die die ZQ Praxismanagement absolviert haben und sich hiermit die Anerkennung als "TFA mit Zusatzqualifikation" erhalten möchten, sowie für Tierärzte/ Tierärztinnen. Bitte beachten Sie unsere Hinweise am Ende des Seminarprogramms!
URL:https://seminar.vet/produkt/das-ablaeufe-aufraeum-webinar-wie-marie-kondo-eure-ablaeufe-transformieren-kann/
LOCATION:
END:VEVENT
END:VCALENDAR
