BEGIN:VCALENDAR
VERSION:2.0
PRODID:-//Seminar - Vet
CALSCALE:GREGORIAN
METHOD:PUBLISH
X-WR-CALNAME:Seminar - Vet
X-ORIGINAL-URL:https://seminar.vet/produkt/fehler-feiern-fuck-up-nights-in-der-tiermedizin/
X-WR-CALDESC:Fehler feiern – Fuck-up Nights in der Tiermedizin
BEGIN:VTIMEZONE
TZID:Europe/Helsinki
END:VTIMEZONE
BEGIN:VEVENT
DTSTART;TZID=Europe/Helsinki:20261209T180000
DTEND;TZID=Europe/Helsinki:20261209T200000
DTSTAMP:20260424T104711
UID:1461-service@berg-design.koeln
SUMMARY:Fehler feiern – Fuck-up Nights in der Tiermedizin
DESCRIPTION:Fehler gehören zum Arbeitsalltag – besonders in einer Tierarztpraxis, in der viele Entscheidungen schnell getroffen werden müssen. Wer sie offen reflektiert, kann daraus lernen, Abläufe verbessern und zukünftige Fehler vermeiden. In diesem Webinar erfahren die Teilnehmer, wie das Teilen von Erfahrungen mit Fehlentscheidungen – inspiriert von den bekannten „Fuck-up Nights“ – als wertvolles Lerninstrument genutzt werden kann. Ziel ist es, eine Kultur des konstruktiven Umgangs mit Fehlern zu entwickeln, die Sicherheit, Zusammenarbeit und Selbstvertrauen stärkt. Dieses Seminar ist insbesondere geeignet für TFA, die die ZQ Praxismanagement absolviert haben und sich hiermit die Anerkennung als "TFA mit Zusatzqualifikation" erhalten möchten, sowie Tierärzte / Tierärztinnen. Bitte beachten Sie unsere Hinweise am Ende des Seminarprogramms!
URL:https://seminar.vet/produkt/fehler-feiern-fuck-up-nights-in-der-tiermedizin/
LOCATION:
END:VEVENT
END:VCALENDAR
