BEGIN:VCALENDAR
VERSION:2.0
PRODID:-//Seminar - Vet
CALSCALE:GREGORIAN
METHOD:PUBLISH
X-WR-CALNAME:Seminar - Vet
X-ORIGINAL-URL:https://seminar.vet/produkt/die-paketboten-logistik-was-amazon-co-uns-ueber-kundenerwartung-lehren/
X-WR-CALDESC:Die Paketboten-Logistik – Was Amazon &#038; Co uns über Kundenerwartung lehren
BEGIN:VTIMEZONE
TZID:Europe/Helsinki
END:VTIMEZONE
BEGIN:VEVENT
DTSTART;TZID=Europe/Helsinki:20260509T100000
DTEND;TZID=Europe/Helsinki:20260509T120000
DTSTAMP:20260424T102139
UID:1469-service@berg-design.koeln
SUMMARY:Die Paketboten-Logistik – Was Amazon & Co uns über Kundenerwartung lehren
DESCRIPTION:Kunden erwarten heute schnelle, transparente und verlässliche Dienstleistungen – geprägt durch Erfahrungen mit großen Online-Unternehmen wie Amazon. Dieses Seminar zeigt, wie TFA die Erwartungen der Tierbesitzer erkennen und erfüllen können, ohne die eigenen Ressourcen zu überlasten. Teilnehmer lernen, Prozesse zu optimieren, Kommunikation zu verbessern und den Praxisalltag so zu gestalten, dass Kundenzufriedenheit und Effizienz Hand in Hand gehen. Dieses Seminar ist insbesondere geeignet für TFA, die die ZQ Praxismanagement absolviert haben und sich hiermit die Anerkennung als "TFA mit Zusatzqualifikation" erhalten möchten, sowie Tierärzte / Tierärztinnen. Bitte beachten Sie unsere Hinweise am Ende des Seminarprogramms!
URL:https://seminar.vet/produkt/die-paketboten-logistik-was-amazon-co-uns-ueber-kundenerwartung-lehren/
LOCATION:
END:VEVENT
END:VCALENDAR
