BEGIN:VCALENDAR
VERSION:2.0
PRODID:-//Seminar - Vet
CALSCALE:GREGORIAN
METHOD:PUBLISH
X-WR-CALNAME:Seminar - Vet
X-ORIGINAL-URL:https://seminar.vet/produkt/no-bullshit-klartext-sprechen-in-feedback-und-fuehrung/
X-WR-CALDESC:No Bullshit – Klartext sprechen in Feedback und Führung
BEGIN:VTIMEZONE
TZID:Europe/Helsinki
END:VTIMEZONE
BEGIN:VEVENT
DTSTART;TZID=Europe/Helsinki:20260819T180000
DTEND;TZID=Europe/Helsinki:20260819T200000
DTSTAMP:20260423T114946
UID:1505-service@berg-design.koeln
SUMMARY:No Bullshit – Klartext sprechen in Feedback und Führung
DESCRIPTION:Offene und klare Kommunikation ist das Fundament eines funktionierenden Teams. Missverständnisse, unterschwellige Kritik oder unklare Anweisungen können den Arbeitsalltag belasten und das Teamklima verschlechtern. In diesem Seminar lernen die Teilnehmer, wie sie direkt, respektvoll und konstruktiv kommunizieren – sei es in Feedbackgesprächen, bei Anweisungen oder in Konfliktsituationen. Ziel ist es, Sicherheit im Gespräch zu gewinnen, Missverständnisse zu vermeiden und die Zusammenarbeit im Team zu stärken. Dieses Seminar ist insbesondere geeignet für TFA, die die ZQ Praxismanagement oder die ZQ Personalmanagement absolviert haben und sich hiermit die Anerkennung als "TFA mit Zusatzqualifikation" erhalten möchten, sowie Tierärzte / Tierärztinnen.. Bitte beachten Sie unsere Hinweise am Ende des Seminarprogramms!
URL:https://seminar.vet/produkt/no-bullshit-klartext-sprechen-in-feedback-und-fuehrung/
LOCATION:
END:VEVENT
END:VCALENDAR
