BEGIN:VCALENDAR
VERSION:2.0
PRODID:-//Seminar - Vet
CALSCALE:GREGORIAN
METHOD:PUBLISH
X-WR-CALNAME:Seminar - Vet
X-ORIGINAL-URL:https://seminar.vet/produkt/gruender-seminar-intensiv-12-ue-an-zwei-tagen/
X-WR-CALDESC:Gründer-Seminar intensiv (Köln)
BEGIN:VTIMEZONE
TZID:Europe/Helsinki
END:VTIMEZONE
BEGIN:VEVENT
DTSTART;TZID=Europe/Helsinki:20260620T000000
DTEND;TZID=Europe/Helsinki:20260621T000000
DTSTAMP:20260423T114854
UID:1537-service@berg-design.koeln
SUMMARY:Gründer-Seminar intensiv (Köln)
DESCRIPTION:Wer den Schritt in die Selbstständigkeit wirklich konkret plant, braucht mehr als nur einen Überblick – er braucht ein fundiertes Konzept. Im Gründerseminar Intensiv vertiefen Sie an zwei Tagen alle wesentlichen Aspekte einer erfolgreichen Praxisgründung. Sie setzen sich intensiv mit rechtlichen, betriebswirtschaftlichen und organisatorischen Fragen auseinander, entwickeln Strategien für Ihre eigene Praxisidee und erhalten praxisnahe Impulse von erfahrenen Referenten. So sind Sie optimal vorbereitet, um Ihren Weg in die Selbstständigkeit zielgerichtet und gut durchdacht zu gestalten. Dieses Seminar richtet sich an alle, die ihre Gründungsidee konkretisieren und auf eine solide Basis stellen wollen.
URL:https://seminar.vet/produkt/gruender-seminar-intensiv-12-ue-an-zwei-tagen/
LOCATION:Köln
END:VEVENT
END:VCALENDAR
